BEGIN:VCALENDAR
VERSION:2.0
PRODID:-//SVP Brütten //NONSGML Events //EN
CALSCALE:GREGORIAN
X-WR-CALNAME:SVP Brütten
BEGIN:VEVENT
CREATED:20240424T053336Z
UID:1734
DTEND:20250203T210000
DTSTART:20250203T200000
DTSTAMP:20260422T021250Z
LOCATION:
DESCRIPTION:
SUMMARY:Generalversammlung SVP Brütten
ORGANIZER:SVP Brütten
URL;VALUE=URI:https://www.svp-bruetten.ch/termine/generalversammlung-svp-bruetten-2/
TRANSP:OPAQUE
END:VEVENT
END:VCALENDAR
