BEGIN:VCALENDAR
VERSION:2.0
PRODID:-//SVP Brütten //NONSGML Events //EN
CALSCALE:GREGORIAN
X-WR-CALNAME:SVP Brütten
BEGIN:VEVENT
CREATED:20240424T053100Z
UID:1726
DTEND:20240801T000000
DTSTART:20240801T000000
DTSTAMP:20260425T034724Z
LOCATION:
DESCRIPTION:
SUMMARY:1. August Feier (Redner Martin Hübscher SVP)
ORGANIZER:Gemeinde Brütten
URL;VALUE=URI:https://www.svp-bruetten.ch/termine/1-august-feier-redner-martin-huebscher-svp/
TRANSP:OPAQUE
END:VEVENT
END:VCALENDAR
